BEGIN:VCALENDAR
VERSION:2.0
PRODID:-//Quartierverein Seebach - ECPv6.15.18//NONSGML v1.0//EN
CALSCALE:GREGORIAN
METHOD:PUBLISH
X-WR-CALNAME:Quartierverein Seebach
X-ORIGINAL-URL:https://seebach.ch
X-WR-CALDESC:Veranstaltungen für Quartierverein Seebach
REFRESH-INTERVAL;VALUE=DURATION:PT1H
X-Robots-Tag:noindex
X-PUBLISHED-TTL:PT1H
BEGIN:VTIMEZONE
TZID:Europe/Zurich
BEGIN:DAYLIGHT
TZOFFSETFROM:+0100
TZOFFSETTO:+0200
TZNAME:CEST
DTSTART:20240331T010000
END:DAYLIGHT
BEGIN:STANDARD
TZOFFSETFROM:+0200
TZOFFSETTO:+0100
TZNAME:CET
DTSTART:20241027T010000
END:STANDARD
BEGIN:DAYLIGHT
TZOFFSETFROM:+0100
TZOFFSETTO:+0200
TZNAME:CEST
DTSTART:20250330T010000
END:DAYLIGHT
BEGIN:STANDARD
TZOFFSETFROM:+0200
TZOFFSETTO:+0100
TZNAME:CET
DTSTART:20251026T010000
END:STANDARD
BEGIN:DAYLIGHT
TZOFFSETFROM:+0100
TZOFFSETTO:+0200
TZNAME:CEST
DTSTART:20260329T010000
END:DAYLIGHT
BEGIN:STANDARD
TZOFFSETFROM:+0200
TZOFFSETTO:+0100
TZNAME:CET
DTSTART:20261025T010000
END:STANDARD
BEGIN:DAYLIGHT
TZOFFSETFROM:+0100
TZOFFSETTO:+0200
TZNAME:CEST
DTSTART:20270328T010000
END:DAYLIGHT
BEGIN:STANDARD
TZOFFSETFROM:+0200
TZOFFSETTO:+0100
TZNAME:CET
DTSTART:20271031T010000
END:STANDARD
END:VTIMEZONE
BEGIN:VEVENT
DTSTART;TZID=Europe/Zurich:20251201T180000
DTEND;TZID=Europe/Zurich:20260106T180000
DTSTAMP:20260423T090730
CREATED:20251214T100627Z
LAST-MODIFIED:20251214T100725Z
UID:6250-1764612000-1767722400@seebach.ch
SUMMARY:Seebacher Adventsfenster
DESCRIPTION:Seebach wird zum Adventskalender! Zwischen dem 1. und 25.12. öffnet sich jeden Abend an einem anderen Ort um 18 Uhr ein Türchen. Es erwarten euch liebevoll gestaltete Fenster\, oft etwas Warmes zu trinken (Tasse nicht vergessen!) oder andere Programmpunkte und immer nette Leute aus dem Quartier.\nDen Auftakt macht am 1.12. der QV mit der Eröffnung des Quartierweihnachtsbaums am Emil-Oberhänsli-Platz. Ihr seid herzlich eingeladen zum Umtrunk!\nDas komplette Programm mit allen Standorten findet ihr im angehängten Flyer. Nach Eröffnung können die Fenster bis zum 6.1. auch tagsüber bestaunt werden\, zum Beispiel an einem Spaziergang durchs Quartier. Eine Kooperation von GZ und QV Seebach.
URL:https://seebach.ch/event/seebacher-adventsfenster/
LOCATION:Überall in Seebach
CATEGORIES:Highlight,Standard
ATTACH;FMTTYPE=image/jpeg:https://seebach.ch/wp-content/uploads/2025/11/26ae2f03c4d7f777cb213647f87bb5a28affe2a9r0-gU2CU7.jpg
END:VEVENT
END:VCALENDAR