BEGIN:VCALENDAR
VERSION:2.0
PRODID:-//Quartierverein Seebach - ECPv6.15.18//NONSGML v1.0//EN
CALSCALE:GREGORIAN
METHOD:PUBLISH
X-WR-CALNAME:Quartierverein Seebach
X-ORIGINAL-URL:https://seebach.ch
X-WR-CALDESC:Veranstaltungen für Quartierverein Seebach
REFRESH-INTERVAL;VALUE=DURATION:PT1H
X-Robots-Tag:noindex
X-PUBLISHED-TTL:PT1H
BEGIN:VTIMEZONE
TZID:Europe/Zurich
BEGIN:DAYLIGHT
TZOFFSETFROM:+0100
TZOFFSETTO:+0200
TZNAME:CEST
DTSTART:20250330T010000
END:DAYLIGHT
BEGIN:STANDARD
TZOFFSETFROM:+0200
TZOFFSETTO:+0100
TZNAME:CET
DTSTART:20251026T010000
END:STANDARD
BEGIN:DAYLIGHT
TZOFFSETFROM:+0100
TZOFFSETTO:+0200
TZNAME:CEST
DTSTART:20260329T010000
END:DAYLIGHT
BEGIN:STANDARD
TZOFFSETFROM:+0200
TZOFFSETTO:+0100
TZNAME:CET
DTSTART:20261025T010000
END:STANDARD
BEGIN:DAYLIGHT
TZOFFSETFROM:+0100
TZOFFSETTO:+0200
TZNAME:CEST
DTSTART:20270328T010000
END:DAYLIGHT
BEGIN:STANDARD
TZOFFSETFROM:+0200
TZOFFSETTO:+0100
TZNAME:CET
DTSTART:20271031T010000
END:STANDARD
END:VTIMEZONE
BEGIN:VEVENT
DTSTART;TZID=Europe/Zurich:20260109T140000
DTEND;TZID=Europe/Zurich:20260109T140500
DTSTAMP:20260423T021645
CREATED:20260107T084337Z
LAST-MODIFIED:20260107T084337Z
UID:6623-1767967200-1767967500@seebach.ch
SUMMARY:Nationaler Trauertag und Glockengeläut
DESCRIPTION:Am 9. Januar 2026\, dem nationalen Trauertag nach der Brandkatastrophe in Crans-Montana\, werden nach dem Stundenschlag um 14 Uhr alle Kirchenglocken für fünf Minuten läuten.\nIn diesem Moment der Einkehr können alle Menschen in der Schweiz persönlich der Opfer der Katastrophe gedenken.
URL:https://seebach.ch/event/nationaler-trauertag-und-glockengelaeut/
CATEGORIES:Standard
ATTACH;FMTTYPE=image/jpeg:https://seebach.ch/wp-content/uploads/2026/01/b7255812b5078d3403508f5adafe89a05097f362r0-U992ky.jpg
END:VEVENT
BEGIN:VEVENT
DTSTART;TZID=Europe/Zurich:20260109T173000
DTEND;TZID=Europe/Zurich:20260109T213000
DTSTAMP:20260423T021645
CREATED:20251215T203735Z
LAST-MODIFIED:20251215T204427Z
UID:6373-1767979800-1767994200@seebach.ch
SUMMARY:Tavola letteraria
DESCRIPTION:Erleben Sie ein feines Drei-Gang-Menü mit literarischen Zwischengängen von Zora del Buono. Del Buono\, wohnhaft in Zürich Nord\, erhielt für ihren Roman Seinetwegen 2024 den Schweizer Buchpreis. \nProgramm:  \n17.30 Uhr Apéro\n18.00 Uhr Begrüssung und kurze Einführung zu Zora del Buono\n18.15 Uhr Vorspeise\n18.45 Uhr Literarischer Zwischengang\n19.15 Uhr Hauptspeise\n20.00 Uhr Literarischer Zwischengang\n20.30 Uhr Dessert\n21.00 Uhr Literarischer Schlussgang\n21.30 Uhr Zora del Buono signiert ihre Bücher am Büchertisch. \nPreis für die Lesung und das Drei-Gang-Menü:\nohne Weinbegleitung CHF 69.–   vegetarisch CHF 59.–\nmit Weinbegleitung CHF 85.–      vegetarisch CHF 75.–
URL:https://seebach.ch/event/tavola-letteraria/
LOCATION:Vitabella\, Thurgauerstrasse 74\, Zürich\, 8050
CATEGORIES:Highlight
ATTACH;FMTTYPE=image/jpeg:https://seebach.ch/wp-content/uploads/2025/12/Tavola-litteraria.jpg
ORGANIZER;CN="Vitabella":MAILTO:welcome@vitabellazurich.ch
END:VEVENT
END:VCALENDAR