BEGIN:VCALENDAR
VERSION:2.0
PRODID:-//Quartierverein Seebach - ECPv6.15.18//NONSGML v1.0//EN
CALSCALE:GREGORIAN
METHOD:PUBLISH
X-WR-CALNAME:Quartierverein Seebach
X-ORIGINAL-URL:https://seebach.ch
X-WR-CALDESC:Veranstaltungen für Quartierverein Seebach
REFRESH-INTERVAL;VALUE=DURATION:PT1H
X-Robots-Tag:noindex
X-PUBLISHED-TTL:PT1H
BEGIN:VTIMEZONE
TZID:Europe/Zurich
BEGIN:DAYLIGHT
TZOFFSETFROM:+0100
TZOFFSETTO:+0200
TZNAME:CEST
DTSTART:20250330T010000
END:DAYLIGHT
BEGIN:STANDARD
TZOFFSETFROM:+0200
TZOFFSETTO:+0100
TZNAME:CET
DTSTART:20251026T010000
END:STANDARD
BEGIN:DAYLIGHT
TZOFFSETFROM:+0100
TZOFFSETTO:+0200
TZNAME:CEST
DTSTART:20260329T010000
END:DAYLIGHT
BEGIN:STANDARD
TZOFFSETFROM:+0200
TZOFFSETTO:+0100
TZNAME:CET
DTSTART:20261025T010000
END:STANDARD
BEGIN:DAYLIGHT
TZOFFSETFROM:+0100
TZOFFSETTO:+0200
TZNAME:CEST
DTSTART:20270328T010000
END:DAYLIGHT
BEGIN:STANDARD
TZOFFSETFROM:+0200
TZOFFSETTO:+0100
TZNAME:CET
DTSTART:20271031T010000
END:STANDARD
END:VTIMEZONE
BEGIN:VEVENT
DTSTART;TZID=Europe/Zurich:20260113T140000
DTEND;TZID=Europe/Zurich:20260113T163000
DTSTAMP:20260422T194143
CREATED:20260109T232454Z
LAST-MODIFIED:20260109T232454Z
UID:6674-1768312800-1768321800@seebach.ch
SUMMARY:Ältere Menschen in Leutschenbach
DESCRIPTION:Das GZ Seebach und Pro Senectute möchten herausfinden\, was wir dieses Jahr gemeinsam in Leutschenbach mit und für ältere Menschen auf die Beine stellen können. Ihre Stimme ist deshalb wichtig.\nMindestens genauso wichtig: Kaffee\, Kuchen und gute Begegnungen🙂
URL:https://seebach.ch/event/aeltere-menschen-in-leutschenbach-2/
LOCATION:GZ Dépendance in Leutschenbach\, Kurt-Früh-Weg 2
CATEGORIES:Standard
ATTACH;FMTTYPE=image/jpeg:https://seebach.ch/wp-content/uploads/2026/01/d452e68596731eb203dcf5004af1ab8b787a3835r0-nNgsLr.jpg
END:VEVENT
END:VCALENDAR