BEGIN:VCALENDAR
VERSION:2.0
PRODID:-//Quartierverein Seebach - ECPv6.15.18//NONSGML v1.0//EN
CALSCALE:GREGORIAN
METHOD:PUBLISH
X-ORIGINAL-URL:https://seebach.ch
X-WR-CALDESC:Veranstaltungen für Quartierverein Seebach
REFRESH-INTERVAL;VALUE=DURATION:PT1H
X-Robots-Tag:noindex
X-PUBLISHED-TTL:PT1H
BEGIN:VTIMEZONE
TZID:Europe/Zurich
BEGIN:DAYLIGHT
TZOFFSETFROM:+0100
TZOFFSETTO:+0200
TZNAME:CEST
DTSTART:20250330T010000
END:DAYLIGHT
BEGIN:STANDARD
TZOFFSETFROM:+0200
TZOFFSETTO:+0100
TZNAME:CET
DTSTART:20251026T010000
END:STANDARD
BEGIN:DAYLIGHT
TZOFFSETFROM:+0100
TZOFFSETTO:+0200
TZNAME:CEST
DTSTART:20260329T010000
END:DAYLIGHT
BEGIN:STANDARD
TZOFFSETFROM:+0200
TZOFFSETTO:+0100
TZNAME:CET
DTSTART:20261025T010000
END:STANDARD
BEGIN:DAYLIGHT
TZOFFSETFROM:+0100
TZOFFSETTO:+0200
TZNAME:CEST
DTSTART:20270328T010000
END:DAYLIGHT
BEGIN:STANDARD
TZOFFSETFROM:+0200
TZOFFSETTO:+0100
TZNAME:CET
DTSTART:20271031T010000
END:STANDARD
END:VTIMEZONE
BEGIN:VEVENT
DTSTART;TZID=Europe/Zurich:20260116T190000
DTEND;TZID=Europe/Zurich:20260116T190000
DTSTAMP:20260422T141418
CREATED:20260107T084338Z
LAST-MODIFIED:20260107T084338Z
UID:6625-1768590000-1768590000@seebach.ch
SUMMARY:Buntes Orgelkonzert
DESCRIPTION:Ein abwechslungsreicher Musikabend\nIn diesem Konzert prallen packende Tänze\, energievolle Märsche und atemberaubende Virtuosität aufeinander – ein musikalisches Fest voller Schweizer Lebensfreude!\nEs spielen mehrere Organisten von Zürich-Nord. Ihre Namen und die diversen Musikrichtungen findest du auf dem angehängten Flyer.
URL:https://seebach.ch/event/buntes-orgelkonzert/
LOCATION:Kirche Maria Lourdes
CATEGORIES:Standard
ATTACH;FMTTYPE=image/png:https://seebach.ch/wp-content/uploads/2026/01/0c9080748fe8cc8319c05f6a4119c17756a08979r0-GhgTSA.png
END:VEVENT
END:VCALENDAR