BEGIN:VCALENDAR
VERSION:2.0
PRODID:-//Quartierverein Seebach - ECPv6.15.18//NONSGML v1.0//EN
CALSCALE:GREGORIAN
METHOD:PUBLISH
X-ORIGINAL-URL:https://seebach.ch
X-WR-CALDESC:Veranstaltungen für Quartierverein Seebach
REFRESH-INTERVAL;VALUE=DURATION:PT1H
X-Robots-Tag:noindex
X-PUBLISHED-TTL:PT1H
BEGIN:VTIMEZONE
TZID:Europe/Zurich
BEGIN:DAYLIGHT
TZOFFSETFROM:+0100
TZOFFSETTO:+0200
TZNAME:CEST
DTSTART:20250330T010000
END:DAYLIGHT
BEGIN:STANDARD
TZOFFSETFROM:+0200
TZOFFSETTO:+0100
TZNAME:CET
DTSTART:20251026T010000
END:STANDARD
BEGIN:DAYLIGHT
TZOFFSETFROM:+0100
TZOFFSETTO:+0200
TZNAME:CEST
DTSTART:20260329T010000
END:DAYLIGHT
BEGIN:STANDARD
TZOFFSETFROM:+0200
TZOFFSETTO:+0100
TZNAME:CET
DTSTART:20261025T010000
END:STANDARD
BEGIN:DAYLIGHT
TZOFFSETFROM:+0100
TZOFFSETTO:+0200
TZNAME:CEST
DTSTART:20270328T010000
END:DAYLIGHT
BEGIN:STANDARD
TZOFFSETFROM:+0200
TZOFFSETTO:+0100
TZNAME:CET
DTSTART:20271031T010000
END:STANDARD
END:VTIMEZONE
BEGIN:VEVENT
DTSTART;TZID=Europe/Zurich:20260117T181500
DTEND;TZID=Europe/Zurich:20260117T191500
DTSTAMP:20260422T122831
CREATED:20260109T232454Z
LAST-MODIFIED:20260109T232454Z
UID:6676-1768673700-1768677300@seebach.ch
SUMMARY:Handpan-Workshop für Anfänger:innen
DESCRIPTION:Noch ein freier Platz für meinen Handpan-Workshop für Anfänger:innen!\nKomm und lerne dieses besondere Musikinstrument kennen und mache deine ersten Schritte mit der Handpan.\nDer Workshop ist so aufgebaut\, dass du am Ende der Stunde bereits eine Melodie spielen kannst.\n🎵 Keine musikalischen Vorkenntnisse nötig\n🎵 Keine Erfahrung erforderlich\n🎵 Die Handpan stelle ich zur Verfügung\n🍽️ Überraschungs-Abendessen im Preis inbegriffen\n📩 Kontaktiere mich für weitere Informationen.
URL:https://seebach.ch/event/handpan-workshop-fuer-anfaengerinnen-3/
LOCATION:Gz Oerlikon
CATEGORIES:Standard
ATTACH;FMTTYPE=image/png:https://seebach.ch/wp-content/uploads/2026/01/8da44d463cc1ab848217db77ed19bbf5ffe8729fr0-Qzk4Ka.png
END:VEVENT
END:VCALENDAR