BEGIN:VCALENDAR
VERSION:2.0
PRODID:-//Quartierverein Seebach - ECPv6.15.18//NONSGML v1.0//EN
CALSCALE:GREGORIAN
METHOD:PUBLISH
X-ORIGINAL-URL:https://seebach.ch
X-WR-CALDESC:Veranstaltungen für Quartierverein Seebach
REFRESH-INTERVAL;VALUE=DURATION:PT1H
X-Robots-Tag:noindex
X-PUBLISHED-TTL:PT1H
BEGIN:VTIMEZONE
TZID:Europe/Zurich
BEGIN:DAYLIGHT
TZOFFSETFROM:+0100
TZOFFSETTO:+0200
TZNAME:CEST
DTSTART:20250330T010000
END:DAYLIGHT
BEGIN:STANDARD
TZOFFSETFROM:+0200
TZOFFSETTO:+0100
TZNAME:CET
DTSTART:20251026T010000
END:STANDARD
BEGIN:DAYLIGHT
TZOFFSETFROM:+0100
TZOFFSETTO:+0200
TZNAME:CEST
DTSTART:20260329T010000
END:DAYLIGHT
BEGIN:STANDARD
TZOFFSETFROM:+0200
TZOFFSETTO:+0100
TZNAME:CET
DTSTART:20261025T010000
END:STANDARD
BEGIN:DAYLIGHT
TZOFFSETFROM:+0100
TZOFFSETTO:+0200
TZNAME:CEST
DTSTART:20270328T010000
END:DAYLIGHT
BEGIN:STANDARD
TZOFFSETFROM:+0200
TZOFFSETTO:+0100
TZNAME:CET
DTSTART:20271031T010000
END:STANDARD
END:VTIMEZONE
BEGIN:VEVENT
DTSTART;TZID=Europe/Zurich:20260127T150000
DTEND;TZID=Europe/Zurich:20260127T163000
DTSTAMP:20260421T170719
CREATED:20260108T232554Z
LAST-MODIFIED:20260108T232554Z
UID:6658-1769526000-1769531400@seebach.ch
SUMMARY:Literatur - Treff
DESCRIPTION:Liebst du gute Literatur? Willst du dich von anderen inspirieren lassen? Tauchst du gerne in Geschichten ein und möchtest über das\, was ein Buch in dir angeregt\, ausgelöst\, zum Schwingen gebracht hat\, diskutieren?\nAktuell lesen wir Erzählungen aus dem Buch von Peter Stamm – „Auf ganz dünnem Eis.“\nMehr Infos hier:\nhttps://gz-zh.ch/gz-seebach/angebote/literatur-treff/
URL:https://seebach.ch/event/literatur-treff/
LOCATION:GZ Seebach – Provisorium\, Hertensteinstrasse 20\, 8052 Zürich
CATEGORIES:Standard
ATTACH;FMTTYPE=image/jpeg:https://seebach.ch/wp-content/uploads/2026/01/633ce24055d2dec04d66f7d605137dfa305ba1c3r1-5YkLme.jpg
END:VEVENT
END:VCALENDAR