BEGIN:VCALENDAR
VERSION:2.0
PRODID:-//Quartierverein Seebach - ECPv6.15.18//NONSGML v1.0//EN
CALSCALE:GREGORIAN
METHOD:PUBLISH
X-WR-CALNAME:Quartierverein Seebach
X-ORIGINAL-URL:https://seebach.ch
X-WR-CALDESC:Veranstaltungen für Quartierverein Seebach
REFRESH-INTERVAL;VALUE=DURATION:PT1H
X-Robots-Tag:noindex
X-PUBLISHED-TTL:PT1H
BEGIN:VTIMEZONE
TZID:Europe/Zurich
BEGIN:DAYLIGHT
TZOFFSETFROM:+0100
TZOFFSETTO:+0200
TZNAME:CEST
DTSTART:20250330T010000
END:DAYLIGHT
BEGIN:STANDARD
TZOFFSETFROM:+0200
TZOFFSETTO:+0100
TZNAME:CET
DTSTART:20251026T010000
END:STANDARD
BEGIN:DAYLIGHT
TZOFFSETFROM:+0100
TZOFFSETTO:+0200
TZNAME:CEST
DTSTART:20260329T010000
END:DAYLIGHT
BEGIN:STANDARD
TZOFFSETFROM:+0200
TZOFFSETTO:+0100
TZNAME:CET
DTSTART:20261025T010000
END:STANDARD
BEGIN:DAYLIGHT
TZOFFSETFROM:+0100
TZOFFSETTO:+0200
TZNAME:CEST
DTSTART:20270328T010000
END:DAYLIGHT
BEGIN:STANDARD
TZOFFSETFROM:+0200
TZOFFSETTO:+0100
TZNAME:CET
DTSTART:20271031T010000
END:STANDARD
END:VTIMEZONE
BEGIN:VEVENT
DTSTART;TZID=Europe/Zurich:20260130T180000
DTEND;TZID=Europe/Zurich:20260130T210000
DTSTAMP:20260421T151713
CREATED:20260102T232734Z
LAST-MODIFIED:20260102T232734Z
UID:6551-1769796000-1769806800@seebach.ch
SUMMARY:Spieleabend im GZ Leutschenbach
DESCRIPTION:Geniesse Brett- & Kartenspiele oder weitere Spiel-Varianten in ungezwungener Atmosphäre.\nKinder ab 8 Jahren sind in Begleitung der Eltern willkommen.
URL:https://seebach.ch/event/spieleabend-im-gz-leutschenbach/
LOCATION:Kurt-Früh-Weg 2
CATEGORIES:Standard
ATTACH;FMTTYPE=image/jpeg:https://seebach.ch/wp-content/uploads/2026/01/a442637cd7b16125dbece3c1038fe648d177c7c5r0-wxgiqe.jpg
END:VEVENT
BEGIN:VEVENT
DTSTART;TZID=Europe/Zurich:20260130T200000
DTEND;TZID=Europe/Zurich:20260130T235900
DTSTAMP:20260421T151713
CREATED:20260121T232715Z
LAST-MODIFIED:20260121T232715Z
UID:6934-1769803200-1769817540@seebach.ch
SUMMARY:Friday 80‘s Party
DESCRIPTION:Am Freitag 30.1.26 gibt\nes wieder eine 80‘s Party\nim INTER 🤗\nHast Du Lust auf tolle Musik 🎶\nvon DJane Karin 💃🏻🕺🏼\nfeine Drinks 🍹 und gemütliche Atmosphäre?\nBei uns kannst Du das Tanzbein schwingen 💃🏻🕺🏼 oder gemütlich Musik hören🎶 und einen Drink 🍹 geniessen.\nWir freuen uns auf Euch 🤗
URL:https://seebach.ch/event/friday-80s-party-3/
LOCATION:Inter Nationalhof
CATEGORIES:Standard
ATTACH;FMTTYPE=image/jpeg:https://seebach.ch/wp-content/uploads/2026/01/10dce41239b6f2256502ea4bccb936682d10bd60r1-2TeOjv.jpg
END:VEVENT
END:VCALENDAR