BEGIN:VCALENDAR
VERSION:2.0
PRODID:-//Quartierverein Seebach - ECPv6.15.18//NONSGML v1.0//EN
CALSCALE:GREGORIAN
METHOD:PUBLISH
X-WR-CALNAME:Quartierverein Seebach
X-ORIGINAL-URL:https://seebach.ch
X-WR-CALDESC:Veranstaltungen für Quartierverein Seebach
REFRESH-INTERVAL;VALUE=DURATION:PT1H
X-Robots-Tag:noindex
X-PUBLISHED-TTL:PT1H
BEGIN:VTIMEZONE
TZID:Europe/Zurich
BEGIN:DAYLIGHT
TZOFFSETFROM:+0100
TZOFFSETTO:+0200
TZNAME:CEST
DTSTART:20250330T010000
END:DAYLIGHT
BEGIN:STANDARD
TZOFFSETFROM:+0200
TZOFFSETTO:+0100
TZNAME:CET
DTSTART:20251026T010000
END:STANDARD
BEGIN:DAYLIGHT
TZOFFSETFROM:+0100
TZOFFSETTO:+0200
TZNAME:CEST
DTSTART:20260329T010000
END:DAYLIGHT
BEGIN:STANDARD
TZOFFSETFROM:+0200
TZOFFSETTO:+0100
TZNAME:CET
DTSTART:20261025T010000
END:STANDARD
BEGIN:DAYLIGHT
TZOFFSETFROM:+0100
TZOFFSETTO:+0200
TZNAME:CEST
DTSTART:20270328T010000
END:DAYLIGHT
BEGIN:STANDARD
TZOFFSETFROM:+0200
TZOFFSETTO:+0100
TZNAME:CET
DTSTART:20271031T010000
END:STANDARD
END:VTIMEZONE
BEGIN:VEVENT
DTSTART;TZID=Europe/Zurich:20260131T133000
DTEND;TZID=Europe/Zurich:20260131T170000
DTSTAMP:20260421T153300
CREATED:20260103T234214Z
LAST-MODIFIED:20260105T144833Z
UID:6572-1769866200-1769878800@seebach.ch
SUMMARY:Seebacher Kinderfasnacht
DESCRIPTION:Seebach wird bunt! Die Jubla Seebach organisiert wieder einen Fasnachtsumzug.\nKommt vorbei in euren wildesten Kostüms und feiert!\nTreffpunkt: Kirche Maria Lourdes\nSchlusspunkt: GZ Seebach \nFlyer \n 
URL:https://seebach.ch/event/seebacher-kinderfasnacht/
LOCATION:Kirche Maria Lourdes\, Seebacherstrasse 3\, Zürich
CATEGORIES:Highlight,Standard
ATTACH;FMTTYPE=image/jpeg:https://seebach.ch/wp-content/uploads/2026/01/647161f11eb09c0459b2bb55f8f2eda24f7991bdr0-De2K7v.jpg
END:VEVENT
END:VCALENDAR