BEGIN:VCALENDAR
VERSION:2.0
PRODID:-//Quartierverein Seebach - ECPv6.15.18//NONSGML v1.0//EN
CALSCALE:GREGORIAN
METHOD:PUBLISH
X-WR-CALNAME:Quartierverein Seebach
X-ORIGINAL-URL:https://seebach.ch
X-WR-CALDESC:Veranstaltungen für Quartierverein Seebach
REFRESH-INTERVAL;VALUE=DURATION:PT1H
X-Robots-Tag:noindex
X-PUBLISHED-TTL:PT1H
BEGIN:VTIMEZONE
TZID:Europe/Zurich
BEGIN:DAYLIGHT
TZOFFSETFROM:+0100
TZOFFSETTO:+0200
TZNAME:CEST
DTSTART:20250330T010000
END:DAYLIGHT
BEGIN:STANDARD
TZOFFSETFROM:+0200
TZOFFSETTO:+0100
TZNAME:CET
DTSTART:20251026T010000
END:STANDARD
BEGIN:DAYLIGHT
TZOFFSETFROM:+0100
TZOFFSETTO:+0200
TZNAME:CEST
DTSTART:20260329T010000
END:DAYLIGHT
BEGIN:STANDARD
TZOFFSETFROM:+0200
TZOFFSETTO:+0100
TZNAME:CET
DTSTART:20261025T010000
END:STANDARD
BEGIN:DAYLIGHT
TZOFFSETFROM:+0100
TZOFFSETTO:+0200
TZNAME:CEST
DTSTART:20270328T010000
END:DAYLIGHT
BEGIN:STANDARD
TZOFFSETFROM:+0200
TZOFFSETTO:+0100
TZNAME:CET
DTSTART:20271031T010000
END:STANDARD
END:VTIMEZONE
BEGIN:VEVENT
DTSTART;TZID=Europe/Zurich:20260201T150000
DTEND;TZID=Europe/Zurich:20260201T173000
DTSTAMP:20260421T140233
CREATED:20260127T232210Z
LAST-MODIFIED:20260127T232210Z
UID:7098-1769958000-1769967000@seebach.ch
SUMMARY:Winterstobete der Sing- & Spielleute Tambourin am Sonntag\, 1.2.26
DESCRIPTION:Musik\, Gesang\, Tanz\, mit Tee\, Kaffee und Kuchen – Freude und gemütliches Beisammensein im Winter
URL:https://seebach.ch/event/winterstobete-der-sing-spielleute-tambourin-am-sonntag-1-2-26/
LOCATION:Markussaal\, ref. KG Zürich\, KK elf\, Höhenring 56\, Seebach
CATEGORIES:Standard
ATTACH;FMTTYPE=image/jpeg:https://seebach.ch/wp-content/uploads/2026/01/e46b76797d74239138a3ba66f323700a09ba3f7cr0-5kbk4E.jpg
END:VEVENT
END:VCALENDAR