BEGIN:VCALENDAR
VERSION:2.0
PRODID:-//Quartierverein Seebach - ECPv6.15.18//NONSGML v1.0//EN
CALSCALE:GREGORIAN
METHOD:PUBLISH
X-ORIGINAL-URL:https://seebach.ch
X-WR-CALDESC:Veranstaltungen für Quartierverein Seebach
REFRESH-INTERVAL;VALUE=DURATION:PT1H
X-Robots-Tag:noindex
X-PUBLISHED-TTL:PT1H
BEGIN:VTIMEZONE
TZID:Europe/Zurich
BEGIN:DAYLIGHT
TZOFFSETFROM:+0100
TZOFFSETTO:+0200
TZNAME:CEST
DTSTART:20250330T010000
END:DAYLIGHT
BEGIN:STANDARD
TZOFFSETFROM:+0200
TZOFFSETTO:+0100
TZNAME:CET
DTSTART:20251026T010000
END:STANDARD
BEGIN:DAYLIGHT
TZOFFSETFROM:+0100
TZOFFSETTO:+0200
TZNAME:CEST
DTSTART:20260329T010000
END:DAYLIGHT
BEGIN:STANDARD
TZOFFSETFROM:+0200
TZOFFSETTO:+0100
TZNAME:CET
DTSTART:20261025T010000
END:STANDARD
BEGIN:DAYLIGHT
TZOFFSETFROM:+0100
TZOFFSETTO:+0200
TZNAME:CEST
DTSTART:20270328T010000
END:DAYLIGHT
BEGIN:STANDARD
TZOFFSETFROM:+0200
TZOFFSETTO:+0100
TZNAME:CET
DTSTART:20271031T010000
END:STANDARD
END:VTIMEZONE
BEGIN:VEVENT
DTSTART;TZID=Europe/Zurich:20260203T180000
DTEND;TZID=Europe/Zurich:20260203T210000
DTSTAMP:20260421T152156
CREATED:20260125T231142Z
LAST-MODIFIED:20260218T170435Z
UID:7035-1770141600-1770152400@seebach.ch
SUMMARY:Öffentliche Podiumsdiskussion in Zürich-Nord
DESCRIPTION:Wie soll unsere Stadt morgen aussehen? Welche politischen Entscheidungen prägen unseren Alltag in den nächsten Jahren?\nWelche Chancen und Herausforderungen ergeben sich in Oerlikon\, Seebach und Affoltern? Und wie kann Politik die Lebensqualität in den Quartieren langfristig sichern?\nEbenso stehen die Anliegen des lokalen Gewerbes im Zentrum der Diskussion.\nDetails und Anmeldung: https://wznord.ch/veranstaltungen/\nAnmeldung bis 1.2.26\nEintritt frei\nVeranstalter Wirtschaftsraum Zürich-Nord
URL:https://seebach.ch/event/oeffentliche-podiumsdiskussion-in-zuerich-nord/
LOCATION:Hotel Kronenhof\, Wehntalerstr.551\, 8046 Zürich
CATEGORIES:Standard
ATTACH;FMTTYPE=image/jpeg:https://seebach.ch/wp-content/uploads/2026/01/24ed443147a2d6860884cf6f8d1ec0951c0dd757r0-6IR8s9.jpg
END:VEVENT
END:VCALENDAR