BEGIN:VCALENDAR
VERSION:2.0
PRODID:-//Quartierverein Seebach - ECPv6.15.18//NONSGML v1.0//EN
CALSCALE:GREGORIAN
METHOD:PUBLISH
X-ORIGINAL-URL:https://seebach.ch
X-WR-CALDESC:Veranstaltungen für Quartierverein Seebach
REFRESH-INTERVAL;VALUE=DURATION:PT1H
X-Robots-Tag:noindex
X-PUBLISHED-TTL:PT1H
BEGIN:VTIMEZONE
TZID:Europe/Zurich
BEGIN:DAYLIGHT
TZOFFSETFROM:+0100
TZOFFSETTO:+0200
TZNAME:CEST
DTSTART:20250330T010000
END:DAYLIGHT
BEGIN:STANDARD
TZOFFSETFROM:+0200
TZOFFSETTO:+0100
TZNAME:CET
DTSTART:20251026T010000
END:STANDARD
BEGIN:DAYLIGHT
TZOFFSETFROM:+0100
TZOFFSETTO:+0200
TZNAME:CEST
DTSTART:20260329T010000
END:DAYLIGHT
BEGIN:STANDARD
TZOFFSETFROM:+0200
TZOFFSETTO:+0100
TZNAME:CET
DTSTART:20261025T010000
END:STANDARD
BEGIN:DAYLIGHT
TZOFFSETFROM:+0100
TZOFFSETTO:+0200
TZNAME:CEST
DTSTART:20270328T010000
END:DAYLIGHT
BEGIN:STANDARD
TZOFFSETFROM:+0200
TZOFFSETTO:+0100
TZNAME:CET
DTSTART:20271031T010000
END:STANDARD
END:VTIMEZONE
BEGIN:VEVENT
DTSTART;TZID=Europe/Zurich:20260216T090000
DTEND;TZID=Europe/Zurich:20260220T170000
DTSTAMP:20260421T140516
CREATED:20260218T235205Z
LAST-MODIFIED:20260218T235205Z
UID:7770-1771232400-1771606800@seebach.ch
SUMMARY:Spielräume im GZ Seebach in den Ferien offen
DESCRIPTION:Beide Spielräume für Kinder bis 6Jahren in Begleitung sind in den Sportferien von Mo bis Fr ab 9h bis 17h durchgängig geöffnet. Sonntag 22.2.26 von 13h bis 17h geöffnet
URL:https://seebach.ch/event/spielraeume-im-gz-seebach-in-den-ferien-offen/
LOCATION:GZ Seebach\, Container Provisorium\, vis à vis Hertensteinstrasse 20
CATEGORIES:Standard
END:VEVENT
END:VCALENDAR