BEGIN:VCALENDAR
VERSION:2.0
PRODID:-//Quartierverein Seebach - ECPv6.15.18//NONSGML v1.0//EN
CALSCALE:GREGORIAN
METHOD:PUBLISH
X-ORIGINAL-URL:https://seebach.ch
X-WR-CALDESC:Veranstaltungen für Quartierverein Seebach
REFRESH-INTERVAL;VALUE=DURATION:PT1H
X-Robots-Tag:noindex
X-PUBLISHED-TTL:PT1H
BEGIN:VTIMEZONE
TZID:Europe/Zurich
BEGIN:DAYLIGHT
TZOFFSETFROM:+0100
TZOFFSETTO:+0200
TZNAME:CEST
DTSTART:20250330T010000
END:DAYLIGHT
BEGIN:STANDARD
TZOFFSETFROM:+0200
TZOFFSETTO:+0100
TZNAME:CET
DTSTART:20251026T010000
END:STANDARD
BEGIN:DAYLIGHT
TZOFFSETFROM:+0100
TZOFFSETTO:+0200
TZNAME:CEST
DTSTART:20260329T010000
END:DAYLIGHT
BEGIN:STANDARD
TZOFFSETFROM:+0200
TZOFFSETTO:+0100
TZNAME:CET
DTSTART:20261025T010000
END:STANDARD
BEGIN:DAYLIGHT
TZOFFSETFROM:+0100
TZOFFSETTO:+0200
TZNAME:CEST
DTSTART:20270328T010000
END:DAYLIGHT
BEGIN:STANDARD
TZOFFSETFROM:+0200
TZOFFSETTO:+0100
TZNAME:CET
DTSTART:20271031T010000
END:STANDARD
END:VTIMEZONE
BEGIN:VEVENT
DTSTART;TZID=Europe/Zurich:20260221T140000
DTEND;TZID=Europe/Zurich:20260221T153000
DTSTAMP:20260421T135749
CREATED:20260217T234522Z
LAST-MODIFIED:20260217T234522Z
UID:7720-1771682400-1771687800@seebach.ch
SUMMARY:Familien-Kino am Offenen Sonntag
DESCRIPTION:Wir zeigen „Paddington“ im GZ Seebach. Kommt vorbei!\nMehr Infos zum Offenen Sonntag:\nhttps://gz-zh.ch/gz-seebach/angebote/offener-sonntag-2/
URL:https://seebach.ch/event/familien-kino-am-offenen-sonntag/
LOCATION:GZ Seebach
CATEGORIES:Standard
ATTACH;FMTTYPE=image/jpeg:https://seebach.ch/wp-content/uploads/2026/02/1d4bc6cab8e56ed13ce053752e79043f35d59f89r0-xdIR2Z.jpg
END:VEVENT
BEGIN:VEVENT
DTSTART;TZID=Europe/Zurich:20260221T193000
DTEND;TZID=Europe/Zurich:20260221T223000
DTSTAMP:20260421T135749
CREATED:20260217T234523Z
LAST-MODIFIED:20260217T234523Z
UID:7722-1771702200-1771713000@seebach.ch
SUMMARY:Mantra singen & Cacao
DESCRIPTION:Mantra singen & Cacaozeremonie\nMantra singen & spirituelle Lieder ✨🎶\nSamstag\, 21. Februar 19.30 Uhr\nwir singen im Pfarrsaal 🎶 der Kirche Maria Lourdes – getragen durch den herzwärmenden Cacao & der Gemeinschaft\nKomme in einem ungezwungenen Rahmen singen\, rasseln\, singen\, tanzen\, klingen\, liegen & lauschen.. 🎶 ⭐️ 🌕\nWir öffnen den Abend mit bestem Rohcacao & vertiefen uns dann gemeinsam mit Heil-Klängen\nGerne Wasserflasche\, ev. eine Decke & wenn Du magst etwas Essbares zum Teilen mitbringen\nSchön 🙏🏼 wenn Du bei dieser nährenden Klangreise dabei sein kannst ✨\nkeine Kenntnisse erforderlich\, gross & klein willkommen.  Anmeldung erwünscht\, spontanes Erscheinen auch möglich\n🎶 auf Kollekte\n🎶 für weitere Daten siehe Flyer im Anhang\nBis bald ✨ zum leise beginnenden Jahr des Feuer-Pferdes\nPatric\n(0765062454)\nwww. ramyoga.ch
URL:https://seebach.ch/event/mantra-singen-cacao-5/
LOCATION:Pfarrsaal Kirche Maria Lourdes\, Seebacherstrasse 3\, 8052 Zürich
CATEGORIES:Standard
ATTACH;FMTTYPE=image/jpeg:https://seebach.ch/wp-content/uploads/2025/12/9eae253f48933e3cee5fc8b0c3fc513691a5c063r1-KmlvU5.jpg
END:VEVENT
END:VCALENDAR