BEGIN:VCALENDAR
VERSION:2.0
PRODID:-//Quartierverein Seebach - ECPv6.15.18//NONSGML v1.0//EN
CALSCALE:GREGORIAN
METHOD:PUBLISH
X-WR-CALNAME:Quartierverein Seebach
X-ORIGINAL-URL:https://seebach.ch
X-WR-CALDESC:Veranstaltungen für Quartierverein Seebach
REFRESH-INTERVAL;VALUE=DURATION:PT1H
X-Robots-Tag:noindex
X-PUBLISHED-TTL:PT1H
BEGIN:VTIMEZONE
TZID:Europe/Zurich
BEGIN:DAYLIGHT
TZOFFSETFROM:+0100
TZOFFSETTO:+0200
TZNAME:CEST
DTSTART:20250330T010000
END:DAYLIGHT
BEGIN:STANDARD
TZOFFSETFROM:+0200
TZOFFSETTO:+0100
TZNAME:CET
DTSTART:20251026T010000
END:STANDARD
BEGIN:DAYLIGHT
TZOFFSETFROM:+0100
TZOFFSETTO:+0200
TZNAME:CEST
DTSTART:20260329T010000
END:DAYLIGHT
BEGIN:STANDARD
TZOFFSETFROM:+0200
TZOFFSETTO:+0100
TZNAME:CET
DTSTART:20261025T010000
END:STANDARD
BEGIN:DAYLIGHT
TZOFFSETFROM:+0100
TZOFFSETTO:+0200
TZNAME:CEST
DTSTART:20270328T010000
END:DAYLIGHT
BEGIN:STANDARD
TZOFFSETFROM:+0200
TZOFFSETTO:+0100
TZNAME:CET
DTSTART:20271031T010000
END:STANDARD
END:VTIMEZONE
BEGIN:VEVENT
DTSTART;TZID=Europe/Zurich:20260316T183000
DTEND;TZID=Europe/Zurich:20260331T200000
DTSTAMP:20260421T165328
CREATED:20260315T232532Z
LAST-MODIFIED:20260315T232532Z
UID:8213-1773685800-1774987200@seebach.ch
SUMMARY:Entspannendes Hatha Yoga in Seebach
DESCRIPTION:Yoga in Seebach – bewusstes Bewegen\, Dehnen und Atmen..\nKlassische Hatha Yoga Kurse im GZ Seebach und im Pfarrsaal der Kirche Maria-Lourdes für alle mit und ohne Yogaerfahrung ..Alle willkommen\nklassisches Yoga (Dehnen – Bewegen – Atmen – Entspannen) mit meditativen Elementen\nkomm  & probiere es aus\, erfahre mehr  Weite\, Wohlbefinden und Energie für Körper & Geist\n> Montag 18.30 Uhr im Pfarrsaal der Kirche Maria Lourdes\n> Dienstag 9.30 Uhr im GZ Seebach\n> Dienstag 19 Uhr im GZ Seebach\n> Donnerstag 19 Uhr im\nGZ Seebach\n> für Einsteigenden & Erfahrene\n> Matten sind\nvorhanden\n> Infos & Fragen\nPatric West 0765062454\n Schnupperlektion 22.-\, vergünstigt im Abo\nSchau gerne vorbei 🧘‍♀️ 🧘🏻‍♂️ wir freuen uns\nBis bald 👋 ✨
URL:https://seebach.ch/event/entspannendes-hatha-yoga-in-seebach-3/
LOCATION:Kirche Maria Lourdes\, Seebacherstrasse 3\, 8052 Seebach
CATEGORIES:Standard
ATTACH;FMTTYPE=image/jpeg:https://seebach.ch/wp-content/uploads/2025/11/ac54645f9497125e043e07cefee30b4201c99898r0-g3kxDh.jpg
END:VEVENT
BEGIN:VEVENT
DTSTART;TZID=Europe/Zurich:20260320T170000
DTEND;TZID=Europe/Zurich:20260320T210000
DTSTAMP:20260421T165328
CREATED:20260318T234403Z
LAST-MODIFIED:20260318T234403Z
UID:8378-1774026000-1774040400@seebach.ch
SUMMARY:KINDERBETREUUNG AM ABEND AM 20. MÄRZ 2026
DESCRIPTION:Wieder mal ins Kino\, chic essen gehen oder einfach zu Hause einen ruhigen Abend geniessen? Wir bereiten gemeinsam mit den Kindern ein feines Abendessen zu. Nach dem Essen wird eine Geschichte erzählt oder wir spielen zusammen.\nWeitere Informationen zu unserem Kinderbetreuungsangebot.
URL:https://seebach.ch/event/kinderbetreuung-am-abend-am-20-maerz-2026-2/
LOCATION:Kinderraum Zentrum ELCH Accu Otto-Schütz-Weg 9\, GoogleMap
CATEGORIES:Standard
ATTACH;FMTTYPE=image/jpeg:https://seebach.ch/wp-content/uploads/2026/03/29eedb55afd5fd1454453b9a90bcee51a9af3125r1-fRVdiM.jpg
END:VEVENT
BEGIN:VEVENT
DTSTART;TZID=Europe/Zurich:20260320T190000
DTEND;TZID=Europe/Zurich:20260320T210000
DTSTAMP:20260421T165328
CREATED:20260202T231309Z
LAST-MODIFIED:20260227T102548Z
UID:7265-1774033200-1774040400@seebach.ch
SUMMARY:Ja\, die 1970er Jahre
DESCRIPTION:Da konnte man in heftige Abenteuer geraten. Vom Zürcher Bunker in die Knastarbeit\, von dort selbst ins Gefängnis. Francesca Carbone\, geboren 1948\, durchlebte die 1970er-Jahre in verschiedenen politischen Organisationen in Bern und Zürich. Oder mit dem Ein- und Ausbrecher Walter Stürm auf einer Indienreise. In den 1980er-Jahren dann wurde sie im Umkreis linksextremer Gruppen in Italien mehrfach inhaftiert.\nIhre kürzlich veröffentlichten Erinnerungen beschreiben diese explosiven Jahre. Darin muss sie sich auch mit Fragen nach der Militanz und politischer Gewalt auseinandersetzen. Aber das ist nicht die ganze Geschichte. Da ist die Rückkehr in die Schweiz\, Lohn- und Genossenschafts- und Gewerkschaftsarbeit. Im Lokalen\, in Wiedikon\, lässt sich Einiges bewegen. Es geht weiterhin um Liebe\, um Mutterschaft und ums Überleben\, ums Weggehen und Ankommen. Um ein reichhaltiges Leben eben.
URL:https://seebach.ch/event/ja-die-1970er-jahre/
LOCATION:bücherraum f\, Jungstrasse 9\, 8050 Zürich
CATEGORIES:Highlight,Standard
ATTACH;FMTTYPE=image/jpeg:https://seebach.ch/wp-content/uploads/2026/02/f42d2810ff3338ac767e661e3ad805cfd340f1c6r0-8kHbFd.jpg
END:VEVENT
END:VCALENDAR