BEGIN:VCALENDAR
VERSION:2.0
PRODID:-//Quartierverein Seebach - ECPv6.15.18//NONSGML v1.0//EN
CALSCALE:GREGORIAN
METHOD:PUBLISH
X-ORIGINAL-URL:https://seebach.ch
X-WR-CALDESC:Veranstaltungen für Quartierverein Seebach
REFRESH-INTERVAL;VALUE=DURATION:PT1H
X-Robots-Tag:noindex
X-PUBLISHED-TTL:PT1H
BEGIN:VTIMEZONE
TZID:Europe/Zurich
BEGIN:DAYLIGHT
TZOFFSETFROM:+0100
TZOFFSETTO:+0200
TZNAME:CEST
DTSTART:20250330T010000
END:DAYLIGHT
BEGIN:STANDARD
TZOFFSETFROM:+0200
TZOFFSETTO:+0100
TZNAME:CET
DTSTART:20251026T010000
END:STANDARD
BEGIN:DAYLIGHT
TZOFFSETFROM:+0100
TZOFFSETTO:+0200
TZNAME:CEST
DTSTART:20260329T010000
END:DAYLIGHT
BEGIN:STANDARD
TZOFFSETFROM:+0200
TZOFFSETTO:+0100
TZNAME:CET
DTSTART:20261025T010000
END:STANDARD
BEGIN:DAYLIGHT
TZOFFSETFROM:+0100
TZOFFSETTO:+0200
TZNAME:CEST
DTSTART:20270328T010000
END:DAYLIGHT
BEGIN:STANDARD
TZOFFSETFROM:+0200
TZOFFSETTO:+0100
TZNAME:CET
DTSTART:20271031T010000
END:STANDARD
END:VTIMEZONE
BEGIN:VEVENT
DTSTART;TZID=Europe/Zurich:20260316T183000
DTEND;TZID=Europe/Zurich:20260331T200000
DTSTAMP:20260421T134530
CREATED:20260315T232532Z
LAST-MODIFIED:20260315T232532Z
UID:8213-1773685800-1774987200@seebach.ch
SUMMARY:Entspannendes Hatha Yoga in Seebach
DESCRIPTION:Yoga in Seebach – bewusstes Bewegen\, Dehnen und Atmen..\nKlassische Hatha Yoga Kurse im GZ Seebach und im Pfarrsaal der Kirche Maria-Lourdes für alle mit und ohne Yogaerfahrung ..Alle willkommen\nklassisches Yoga (Dehnen – Bewegen – Atmen – Entspannen) mit meditativen Elementen\nkomm  & probiere es aus\, erfahre mehr  Weite\, Wohlbefinden und Energie für Körper & Geist\n> Montag 18.30 Uhr im Pfarrsaal der Kirche Maria Lourdes\n> Dienstag 9.30 Uhr im GZ Seebach\n> Dienstag 19 Uhr im GZ Seebach\n> Donnerstag 19 Uhr im\nGZ Seebach\n> für Einsteigenden & Erfahrene\n> Matten sind\nvorhanden\n> Infos & Fragen\nPatric West 0765062454\n Schnupperlektion 22.-\, vergünstigt im Abo\nSchau gerne vorbei 🧘‍♀️ 🧘🏻‍♂️ wir freuen uns\nBis bald 👋 ✨
URL:https://seebach.ch/event/entspannendes-hatha-yoga-in-seebach-3/
LOCATION:Kirche Maria Lourdes\, Seebacherstrasse 3\, 8052 Seebach
CATEGORIES:Standard
ATTACH;FMTTYPE=image/jpeg:https://seebach.ch/wp-content/uploads/2025/11/ac54645f9497125e043e07cefee30b4201c99898r0-g3kxDh.jpg
END:VEVENT
BEGIN:VEVENT
DTSTART;TZID=Europe/Zurich:20260328T090000
DTEND;TZID=Europe/Zurich:20260328T110000
DTSTAMP:20260421T134530
CREATED:20260315T232533Z
LAST-MODIFIED:20260315T232533Z
UID:8224-1774688400-1774695600@seebach.ch
SUMMARY:Diagnose Krebs - Wissen\, Therapie\, Hoffnung
DESCRIPTION:Beim Zmorge mit Vortrag spricht Anna Zahno über das Krankheitsbild Krebs\, aktuelle Therapien und hoffnungsvolle Perspektiven.\nKrebs ist in westlichen Industrienationen nach Herz-Kreislauf-Erkrankungen die zweithäufigste Todesursache. Etwa jeder dritte Mensch in westlichen Ländern wird im Laufe seines Lebens mit einer invasiven Krebserkrankung konfrontiert. Krebs ist einerseits eine der größten gesundheitlichen Belastungen\, zeigt aber dank medizinischer Durchbrüche gleichzeitig verbesserte Prognosen. Anna Zahno ist Pflegefachfrau sowie psychoonkologische und systemische Beraterin. Seit 14 Jahren ist sie als Fachberaterin bei der Krebsliga Schweiz tätig. Zusammen mit ihrem Team begleitet sie jährlich rund 5000 an Krebs erkrankte Menschen\, ihre Angehörigen und Fachpersonen. Der Vortrag von Anna Zahno erklärt verständlich\, was Krebs ist\, wie er heute behandelt wird und welche Entwicklungen Hoffnung geben. Das Time-Out-Team lädt herzlich ein. Zur Deckung der Ausgaben bitten wir um einen Beitrag über 15 CHF pro erwachsene Person. Bitte melden Sie sich bis zum 20. März per Mail an –  peter.jost@reformiert-zuerich.ch.\nTime Out ist ein Angebot des reformierten Kirchenkreises 11 (Seebach & Affoltern).
URL:https://seebach.ch/event/diagnose-krebs-wissen-therapie-hoffnung-5/
LOCATION:Höhenring 56
CATEGORIES:Standard
ATTACH;FMTTYPE=image/jpeg:https://seebach.ch/wp-content/uploads/2026/01/6fe9c75dcd8aeef359f960e76bdb944e58277ad9r0-B3NG5F.jpg
END:VEVENT
BEGIN:VEVENT
DTSTART;TZID=Europe/Zurich:20260328T090000
DTEND;TZID=Europe/Zurich:20260328T120000
DTSTAMP:20260421T134530
CREATED:20260317T234203Z
LAST-MODIFIED:20260317T234203Z
UID:8335-1774688400-1774699200@seebach.ch
SUMMARY:🌱 Der Buhnhügel blüht auf - bist du dabei? Dann komm ans Kick-off 🌿
DESCRIPTION:Wir machen den Buhnhügel zu einem lebendigen Ort voller Grün\, Hochbeete und Nachbarschafts-Power – und du kannst mitgestalten! ✨\nOb Gemüse\, Kräuter oder Blumen: Alles\, was Freude macht\, darf wachsen. Bring deine Ideen mit\, lerne andere Interessierte kennen und werde Teil einer neuen\, grünen Gemeinschaft.\n📅 Kick-off\nSamstag\, 28. März 2026\n⏰ ab 09:00 Uhr\n📍 Markuskirche Seebach\, Jugendstube (Höhenring 56\, 8052 Zürich)\nDu hast Lust\, aber gerade keine Zeit? Melde dich trotzdem – wir freuen uns\, von dir zu hören! 💬\n👉 Kontakt\nSekretariat: sekretariat.kk.elf@reformiert-zuerich.ch\nSozialdiakonie: alexandra.meier@reformiert-zuerich.ch | 043 495 90 54\nPfarrerin: stefanie.neuenschwander@reformiert.ch | 043 495 90 50\n🌿 Komm vorbei und lass uns gemeinsam etwas wachsen lassen! 🌱
URL:https://seebach.ch/event/%f0%9f%8c%b1-der-buhnhuegel-blueht-auf-bist-du-dabei-dann-komm-ans-kick-off-%f0%9f%8c%bf-2/
LOCATION:Markuskirche Seebach\, Jugendstube (Höhenring 56\, 8052 Zürich)
CATEGORIES:Standard
ATTACH;FMTTYPE=image/jpeg:https://seebach.ch/wp-content/uploads/2026/03/28f392fa9b806a5a6834695f64930d57983d5ebfr0-PEwFYy.jpg
END:VEVENT
BEGIN:VEVENT
DTSTART;TZID=Europe/Zurich:20260328T100000
DTEND;TZID=Europe/Zurich:20260328T160000
DTSTAMP:20260421T134530
CREATED:20260320T062107Z
LAST-MODIFIED:20260320T062107Z
UID:8441-1774692000-1774713600@seebach.ch
SUMMARY:BROKIDS Frühlingsverkauf
DESCRIPTION:Wir verkaufen tolle Kinderartikel\, u. A. fachmännisch reparierte Kindervelos\, Laufräder\, Einräder\, Skateboards und vieles mehr.
URL:https://seebach.ch/event/brokids-fruehlingsverkauf/
LOCATION:BROKIDS Seebach\, Landhusweg 4\, Zürich\, 8052\, Switzerland
CATEGORIES:Standard
ATTACH;FMTTYPE=image/jpeg:https://seebach.ch/wp-content/uploads/2026/03/Brokids-Seebach-1.jpg
ORGANIZER;CN="BROKIDS":MAILTO:ch.schwaninger@brokids.ch
END:VEVENT
BEGIN:VEVENT
DTSTART;TZID=Europe/Zurich:20260328T193000
DTEND;TZID=Europe/Zurich:20260328T223000
DTSTAMP:20260421T134530
CREATED:20260315T232533Z
LAST-MODIFIED:20260315T232533Z
UID:8225-1774726200-1774737000@seebach.ch
SUMMARY:Jahreskonzert
DESCRIPTION:Musikverein Zürich – Seebach meets Larissa Baumann\nDer Musikverein Zürich – Seebach lädt zum diesjährigen Jahreskonzert im Doktorhaus Wallisellen am Sa\, 28. März 2026 um 19.30 Uhr. Ein Abend voller Rhythmus und Musik\, von Afrika bis zur Disco-Ära. Das Highlight ist die erstmalige Begleitung der Gastsängerin Larissa Baumann\, Gewinnerin des Swiss Blues Award 2025. Der Musikverein freut sich auf Ihren Besuch.
URL:https://seebach.ch/event/jahreskonzert-3/
LOCATION:Saal zum Doktorhaus\, Wallisellen
CATEGORIES:Standard
ATTACH;FMTTYPE=image/jpeg:https://seebach.ch/wp-content/uploads/2026/03/d70cfc2099013750a3abbe7ab10eea984fa0e0f4r1-bnKWcB.jpg
END:VEVENT
BEGIN:VEVENT
DTSTART;TZID=Europe/Zurich:20260328T193000
DTEND;TZID=Europe/Zurich:20260328T223000
DTSTAMP:20260421T134531
CREATED:20260326T192520Z
LAST-MODIFIED:20260327T072444Z
UID:8482-1774726200-1774737000@seebach.ch
SUMMARY:Mantra singen in Seebach
DESCRIPTION:Mantra singen mit Cacao-Zeremonie zum Frühlingsbeginn 🌿☘️\nSamstag\, 28. März um 19.30 Uhr im Pfarrsaal der Kirche Maria Lourdes\n🎶 Mantras & spirituelle Lieder\nKomme in einem ungezwungenen Rahmen rasseln\, singen\, tanzen\, klingen\, liegen\, lauschen.. 🎶 🌸☘️ getragen von herzwärmendem Roh-Cacao & Gemeinschaft – offen für alle\, keine Kenntnisse nötig\, klein & gross sind willkommen\nWir öffnen den Abend mit bestem Roh-Cacao und vertiefen uns dann gemeinsam in heilsamen Klängen\nBringe gerne eine Wasserflasche\, ev. Deine Decke und\, falls Du magst\, etwas Kleines für den Verpflegungstisch\nSchön 🙏🏼 wenn Du bei dieser nährenden Klangreise dabei bist ✨\nAnmeldung erwünscht; spontanes Erscheinen auch gut möglich\n0765062454 (WhatsApp\, Telegram)\n🎶 auf Kollektenbasis\n🎶 weitere Daten siehe Flyer im Anhang\nBis bald ✨\nPatric\nwww. ramyoga.ch
URL:https://seebach.ch/event/mantra-singen-in-seebach/
LOCATION:Pfarrsaal Kirche Maria Lourdes\, Seebacherstrasse 3\, 8052 Zürich
CATEGORIES:Standard
ATTACH;FMTTYPE=image/jpeg:https://seebach.ch/wp-content/uploads/2025/12/9eae253f48933e3cee5fc8b0c3fc513691a5c063r1-KmlvU5.jpg
END:VEVENT
END:VCALENDAR