BEGIN:VCALENDAR
VERSION:2.0
PRODID:-//Quartierverein Seebach - ECPv6.15.18//NONSGML v1.0//EN
CALSCALE:GREGORIAN
METHOD:PUBLISH
X-WR-CALNAME:Quartierverein Seebach
X-ORIGINAL-URL:https://seebach.ch
X-WR-CALDESC:Veranstaltungen für Quartierverein Seebach
REFRESH-INTERVAL;VALUE=DURATION:PT1H
X-Robots-Tag:noindex
X-PUBLISHED-TTL:PT1H
BEGIN:VTIMEZONE
TZID:Europe/Zurich
BEGIN:DAYLIGHT
TZOFFSETFROM:+0100
TZOFFSETTO:+0200
TZNAME:CEST
DTSTART:20250330T010000
END:DAYLIGHT
BEGIN:STANDARD
TZOFFSETFROM:+0200
TZOFFSETTO:+0100
TZNAME:CET
DTSTART:20251026T010000
END:STANDARD
BEGIN:DAYLIGHT
TZOFFSETFROM:+0100
TZOFFSETTO:+0200
TZNAME:CEST
DTSTART:20260329T010000
END:DAYLIGHT
BEGIN:STANDARD
TZOFFSETFROM:+0200
TZOFFSETTO:+0100
TZNAME:CET
DTSTART:20261025T010000
END:STANDARD
BEGIN:DAYLIGHT
TZOFFSETFROM:+0100
TZOFFSETTO:+0200
TZNAME:CEST
DTSTART:20270328T010000
END:DAYLIGHT
BEGIN:STANDARD
TZOFFSETFROM:+0200
TZOFFSETTO:+0100
TZNAME:CET
DTSTART:20271031T010000
END:STANDARD
END:VTIMEZONE
BEGIN:VEVENT
DTSTART;TZID=Europe/Zurich:20260420T020000
DTEND;TZID=Europe/Zurich:20260420T020000
DTSTAMP:20260420T131626
CREATED:20260416T232206Z
LAST-MODIFIED:20260419T070042Z
UID:9262-1776650400-1776650400@seebach.ch
SUMMARY:Querbeete Seebach
DESCRIPTION:Hol dir jetzt dein Querbeet in Seebach und baue mit überschaubarem Aufwand dein eigenes Gemüse an.\nAnmeldung: https://stadtrandacker.ch/querbeete/\nDie Methode der Querbeete ist eine sehr ursprüngliche Form des Gärtnerns auf Ackerland und dient der Selbstversorgung mit biologischem Gemüse. Das Prinzip ist einfach. In langen parallelen Beeten werden im Frühjahr durch einen professionellen Landwirt verschiedene Gemüsekulturen ausgesät und ausgepflanzt\, insgesamt etwa 25 Gemüsearten. Danach werden die Parzellen quer zu den Längsreihen aufgeteilt und gegen Mitte April als Querbeet an die Pächter*innen übergegeben\, welche nun bis Ende Saison alles Weitere übernehmen. Dann\, im Frühling des Folgejahrs macht der Landwirt den Boden bereit für eine weitere Saison und alles beginnt wieder von vorne.
URL:https://seebach.ch/event/querbeete-seebach-14/
LOCATION:Köschenrütistrasse 6  / Birchstrasse
CATEGORIES:Standard
ATTACH;FMTTYPE=image/jpeg:https://seebach.ch/wp-content/uploads/2026/03/3ef9aa796da5c832657263ed11c236198de51796r0-pZzIAm.jpg
END:VEVENT
END:VCALENDAR