BEGIN:VCALENDAR
VERSION:2.0
PRODID:-//Quartierverein Seebach - ECPv6.15.18//NONSGML v1.0//EN
CALSCALE:GREGORIAN
METHOD:PUBLISH
X-ORIGINAL-URL:https://seebach.ch
X-WR-CALDESC:Veranstaltungen für Quartierverein Seebach
REFRESH-INTERVAL;VALUE=DURATION:PT1H
X-Robots-Tag:noindex
X-PUBLISHED-TTL:PT1H
BEGIN:VTIMEZONE
TZID:Europe/Zurich
BEGIN:DAYLIGHT
TZOFFSETFROM:+0100
TZOFFSETTO:+0200
TZNAME:CEST
DTSTART:20250330T010000
END:DAYLIGHT
BEGIN:STANDARD
TZOFFSETFROM:+0200
TZOFFSETTO:+0100
TZNAME:CET
DTSTART:20251026T010000
END:STANDARD
BEGIN:DAYLIGHT
TZOFFSETFROM:+0100
TZOFFSETTO:+0200
TZNAME:CEST
DTSTART:20260329T010000
END:DAYLIGHT
BEGIN:STANDARD
TZOFFSETFROM:+0200
TZOFFSETTO:+0100
TZNAME:CET
DTSTART:20261025T010000
END:STANDARD
BEGIN:DAYLIGHT
TZOFFSETFROM:+0100
TZOFFSETTO:+0200
TZNAME:CEST
DTSTART:20270328T010000
END:DAYLIGHT
BEGIN:STANDARD
TZOFFSETFROM:+0200
TZOFFSETTO:+0100
TZNAME:CET
DTSTART:20271031T010000
END:STANDARD
END:VTIMEZONE
BEGIN:VEVENT
DTSTART;TZID=Europe/Zurich:20260620T180000
DTEND;TZID=Europe/Zurich:20260620T234500
DTSTAMP:20260421T171217
CREATED:20260419T232204Z
LAST-MODIFIED:20260419T232204Z
UID:9404-1781978400-1781999100@seebach.ch
SUMMARY:Ay ay ayyyy💃🕺🍹🌮  vamos a bailar Salsa\, Bachata\, Merengue
DESCRIPTION:Etwas Südamerika im Inter… ungezwungene\, fröhliche Atmosphäre\, tanzen\, trinken\, Leute kennenlernen\, oder einfach nur Empanada geniessen\nEintritt frei
URL:https://seebach.ch/event/ay-ay-ayyyy%f0%9f%92%83%f0%9f%95%ba%f0%9f%8d%b9%f0%9f%8c%ae-vamos-a-bailar-salsa-bachata-merengue-16/
LOCATION:Inter Nationalhof\, Schaffhauserstr. 463
CATEGORIES:Standard
ATTACH;FMTTYPE=image/jpeg:https://seebach.ch/wp-content/uploads/2026/04/703adfe7cbf5957cb68c35f3b2dfa9109ac1a318r0-UVLoT3.jpg
END:VEVENT
END:VCALENDAR