BEGIN:VCALENDAR
VERSION:2.0
PRODID:-//Quartierverein Seebach - ECPv6.15.18//NONSGML v1.0//EN
CALSCALE:GREGORIAN
METHOD:PUBLISH
X-ORIGINAL-URL:https://seebach.ch
X-WR-CALDESC:Veranstaltungen für Quartierverein Seebach
REFRESH-INTERVAL;VALUE=DURATION:PT1H
X-Robots-Tag:noindex
X-PUBLISHED-TTL:PT1H
BEGIN:VTIMEZONE
TZID:Europe/Zurich
BEGIN:DAYLIGHT
TZOFFSETFROM:+0100
TZOFFSETTO:+0200
TZNAME:CEST
DTSTART:20250330T010000
END:DAYLIGHT
BEGIN:STANDARD
TZOFFSETFROM:+0200
TZOFFSETTO:+0100
TZNAME:CET
DTSTART:20251026T010000
END:STANDARD
BEGIN:DAYLIGHT
TZOFFSETFROM:+0100
TZOFFSETTO:+0200
TZNAME:CEST
DTSTART:20260329T010000
END:DAYLIGHT
BEGIN:STANDARD
TZOFFSETFROM:+0200
TZOFFSETTO:+0100
TZNAME:CET
DTSTART:20261025T010000
END:STANDARD
BEGIN:DAYLIGHT
TZOFFSETFROM:+0100
TZOFFSETTO:+0200
TZNAME:CEST
DTSTART:20270328T010000
END:DAYLIGHT
BEGIN:STANDARD
TZOFFSETFROM:+0200
TZOFFSETTO:+0100
TZNAME:CET
DTSTART:20271031T010000
END:STANDARD
END:VTIMEZONE
BEGIN:VEVENT
DTSTART;TZID=Europe/Zurich:20260504T091500
DTEND;TZID=Europe/Zurich:20260504T111500
DTSTAMP:20260421T140056
CREATED:20260410T233038Z
LAST-MODIFIED:20260415T062940Z
UID:8940-1777886100-1777893300@seebach.ch
SUMMARY:WINDELTURNEN
DESCRIPTION:Lass dein Kind spielerisch die Freude an der Bewegung ausleben und dabei grossen Spass haben. Unter fachlicher Anleitung stärkt es sein Selbstvertrauen sowie seine motorischen Fähigkeiten und kann sein natürliches Gespür für Rhythmus entdecken.\nBring a Friend Aktion\nGemeinsam machts mehr Spass! Bring eine*n Freund*in mit und als Dankeschön erhalten beide eine Gratislektion. Gilt für neue Teilnehmende\, die zum ersten Mal dabei sind. Aktion gültig bis Ende Februar.\nWann: START NACH DEN\nFRÜHLINGSFERIEN\nGruppe 1: Montag\, 9.15–10.05 Uhr\nGruppe 2: Montag\, 10.25–11.15 Uhr\n(ausser während der Schulferien)\nAlter\nFür Kinder ab 18 Monaten bis ca. 3 Jahren in Begleitung.\nLeitung\nAidda Chaouche\nPreis\nFr 10.– M / Fr. 15.– NM pro Mal\, zahlbar quartalsweise (keine Einzellektionen)\nSchnupperstunde mit Voranmeldung kostenlos.\nAnmeldung\nAuskunft und Anmeldung unter Tel. 076 250 18 28\, windelturnen.accu@zentrumelch.ch
URL:https://seebach.ch/event/windelturnen-2/
LOCATION:Raum Mehrzweckraum\, an heissen Sommertagen treffen wir uns draussen im Park. Zentrum ELCH Accu Otto-Schütz-Weg 9\, GoogleMap
CATEGORIES:Standard
ATTACH;FMTTYPE=image/jpeg:https://seebach.ch/wp-content/uploads/2026/04/22f7ca504da7aa05b719ba5c2bd3cfa3a63c0226r1-9va3BV.jpg
END:VEVENT
BEGIN:VEVENT
DTSTART;TZID=Europe/Zurich:20260505T190000
DTEND;TZID=Europe/Zurich:20260505T203000
DTSTAMP:20260421T140056
CREATED:20260411T163315Z
LAST-MODIFIED:20260411T171555Z
UID:9007-1778007600-1778013000@seebach.ch
SUMMARY:Podium Kreisschulbehörde Glattal
DESCRIPTION:Der Schulkreis Glattal erhält ein neues Präsidium. Die Quartiervereine Affoltern\, Oerlikon und Seebach organisieren ein Podium mit allen Kandidierenden unter der Moderation von Nina Graf (tsri.ch).\nFür das Präsidium kandidieren gemäss Publikation der Stadt Zürich:  \n\nCapaul Carlina\, FDP; Betriebsökonomin FH\, Leiterin Zentrale Dienste\nHochuli Marco\, SP; Dipl. Pflegefachmann HF\, Abteilungsleiter Soziales\nSanesi Muri Monica\, GLP; Umweltnaturwissenschaftlerin ETH\, Kantonsrätin\n\nKommen Sie vorbei und stellen Sie Ihre Fragen!
URL:https://seebach.ch/event/podium-kreisschulbehoerde-glattal/
LOCATION:Labör\, Affolternstrasse 76\, Zürich\, 8050\, Switzerland
CATEGORIES:Highlight
ATTACH;FMTTYPE=image/jpeg:https://seebach.ch/wp-content/uploads/2026/04/Schulanlage-Blumenfeld-von-Thomas-Hussel.jpg
ORGANIZER;CN="Lab%C3%B6r":MAILTO:hallo@laboer.ch
END:VEVENT
BEGIN:VEVENT
DTSTART;TZID=Europe/Zurich:20260506T090000
DTEND;TZID=Europe/Zurich:20260506T104500
DTSTAMP:20260421T140056
CREATED:20260416T232206Z
LAST-MODIFIED:20260416T232206Z
UID:9268-1778058000-1778064300@seebach.ch
SUMMARY:KINDERSINGEN
DESCRIPTION:Unser Kindersingen ist ein bezauberndes Abenteuer\, bei dem wir die Vielfalt der Kinderlieder und Musik erkunden. Deine Kleinen haben Spass beim Singen\, Tanzen und Musikmachen\, treffen neue Freunde und erleben gemeinsam musikalische Abenteuer. Wir freuen uns darauf\, euch bei unserer musikalischen Reise zu begrüssen. Die Kinderbetreuung für Geschwister ist gleichzeitig geöffnet (Rabatt).\nWann: START NACH\nFRÜHLINGSFERIEN\nGruppe 1: Mittwoch\, 9.00–9.45 Uhr\nGruppe 2: Mittwoch\, 10.00–10.45 Uhr\n(ausser während der Schulferien)\nAlter\nKinder ab 1½ Jahren in Begleitung\nPreis\nFr. 10.– M / Fr. 15.– NM\, zahlbar quartalsweise\nAnmeldung\nAuskunft und Anmeldung bei Regi Ehrbar\, Tel. 078 217 15 33 oder per Email an kindersingen.accu@zentrumelch.ch\nEintritt\nSofern Plätze frei sind\, jederzeit möglich\, gratis Schnuppermorgen auf Anmeldung. Start pro Gruppe ab vier Anmeldungen.
URL:https://seebach.ch/event/kindersingen-7/
LOCATION:Mehrzweckraum Zentrum ELCH Accu Otto-Schütz-Weg 9\, GoogleMap
CATEGORIES:Standard
ATTACH;FMTTYPE=image/jpeg:https://seebach.ch/wp-content/uploads/2026/04/d7917b521b9ccd14f7e5811b9d5adf14408684e0r1-EsetXF.jpg
END:VEVENT
BEGIN:VEVENT
DTSTART;TZID=Europe/Zurich:20260506T150000
DTEND;TZID=Europe/Zurich:20260506T163000
DTSTAMP:20260421T140056
CREATED:20260416T232206Z
LAST-MODIFIED:20260416T232206Z
UID:9269-1778079600-1778085000@seebach.ch
SUMMARY:MUTTERTAGSBASTELN
DESCRIPTION:Wir basteln etwas Wunderschönes fürs Mami – mit viel Herz und Kreativität! So entsteht ein ganz persönliches Geschenk für das beste Mami der Welt. Komm vorbei und mach mit – Freude und strahlende Gesichter sind garantiert.\nAlter\nFür Kinder ab 3 Jahren\nPreis\nFr. 5.–\nAnmeldung\nAnmeldung nicht erforderlich\nAuskunft erteilt Sandra Hofacker\, Tel. 078 775 08 15\, kultur.accu@zentrumelch.ch
URL:https://seebach.ch/event/muttertagsbasteln-3/
LOCATION:Mehrzweckraum Zentrum ELCH Accu Otto-Schütz-Weg 9\, GoogleMap
CATEGORIES:Standard
ATTACH;FMTTYPE=image/jpeg:https://seebach.ch/wp-content/uploads/2026/03/90a98d3e33737bbcae3963dac0570d26040eca7br1-yWrrke.jpg
END:VEVENT
BEGIN:VEVENT
DTSTART;TZID=Europe/Zurich:20260508T020000
DTEND;TZID=Europe/Zurich:20260509T020000
DTSTAMP:20260421T140056
CREATED:20260418T232206Z
LAST-MODIFIED:20260418T232206Z
UID:9342-1778205600-1778292000@seebach.ch
SUMMARY:Kinderkleiderbörse Seebach
DESCRIPTION:Gebrauchte Kinderkleider\, Spielsachen\, Spiele usw. kaufen und verkaufen
URL:https://seebach.ch/event/kinderkleiderboerse-seebach-7/
LOCATION:Seebach\, Kirche Maria Lourdes
CATEGORIES:Standard
ATTACH;FMTTYPE=image/jpeg:https://seebach.ch/wp-content/uploads/2026/04/3ab408e63ebb0eabf71690ef4e554ca2b8abef22r1-ihlja6.jpg
END:VEVENT
BEGIN:VEVENT
DTSTART;TZID=Europe/Zurich:20260508T183000
DTEND;TZID=Europe/Zurich:20260508T203000
DTSTAMP:20260421T140056
CREATED:20260411T165612Z
LAST-MODIFIED:20260411T170754Z
UID:9013-1778265000-1778272200@seebach.ch
SUMMARY:Podium Tram Affoltern
DESCRIPTION:Von Brunnenhof bis Holzerhurd soll in Zukunft ein Tram verkehren. Damit sollen die nötigen zusätzlichen Kapazitäten und eine komfortable direkte Verbindung in die City für das wachsende Quartier Affoltern geschaffen werden.\nAm 14. Juni 2026 entscheiden die Stimmberechtigten der Stadt Zürich über den Kredit in Höhe von 159\,1 Millionen Franken für das Tram Affoltern. Informieren Sie sich beim Podium des Quartiervereins Affoltern mit Vertretenden aller Parteien: \n\nAnjushka Früh\, Gemeinderätin SP\nBenedikt Gerth\, Gemeinderat Mitte\nChristian Häberli\, Gemeinderat AL\nJulia Hofstetter\, Gemeinderätin Grüne\nThomas Hofstetter\, Gemeinderat FDP\nMonica Sanesi Muri\, Kantonsrätin GLP\n\nModeration: Pia Meier\, Präsidentin Quartierverein Affoltern\, Journalistin\nAnschliessend wird ein kleiner Apéro offeriert. Wir freuen uns auf Ihr Kommen.\nAlle Infos als Flyer
URL:https://seebach.ch/event/podium-tram-affoltern/
LOCATION:Saal Kronenhof\, Wehntalerstrasse 551\, Zürich\, 8046\, Switzerland
CATEGORIES:Standard
ATTACH;FMTTYPE=image/jpeg:https://seebach.ch/wp-content/uploads/2026/04/tram-affoltern-glaubten.jpg
ORGANIZER;CN="Quartierverein Affoltern":MAILTO:info@qvaffoltern.ch
END:VEVENT
BEGIN:VEVENT
DTSTART;TZID=Europe/Zurich:20260509T100000
DTEND;TZID=Europe/Zurich:20260509T113000
DTSTAMP:20260421T140056
CREATED:20260418T232206Z
LAST-MODIFIED:20260418T232206Z
UID:9343-1778320800-1778326200@seebach.ch
SUMMARY:Muttertagsgeschenk
DESCRIPTION:Es ist eine Gelegenheit\, Danke zu sagen!\nJede Mutter freut sich über ein liebevolles\nGeschenk zum Muttertag. Zusammen mit\ndem Papi oder einer anderen Begleitperson\ndürfen die Kinder etwas Schönes basteln.\nFür Kinder von 2 bis 4 Jahren. Pro Kind eine\nBegleitperson.\nKosten: CHF 12.– pro Kind\nAnmeldung* bis 05.05.2026 ans FamZ
URL:https://seebach.ch/event/muttertagsgeschenk-9/
LOCATION:Familienzentrum Katzenbach\, Glatttalstrasse 1a\, 8052 Zürich
CATEGORIES:Standard
ATTACH;FMTTYPE=image/jpeg:https://seebach.ch/wp-content/uploads/2026/04/4dffb6d15a6a782762a0df8083a6864be47c9125r0-8vtzTE.jpg
END:VEVENT
BEGIN:VEVENT
DTSTART;TZID=Europe/Zurich:20260509T100000
DTEND;TZID=Europe/Zurich:20260509T150000
DTSTAMP:20260421T140056
CREATED:20260420T232209Z
LAST-MODIFIED:20260420T232209Z
UID:9436-1778320800-1778338800@seebach.ch
SUMMARY:Allerlei-Markt am Seebacherplatz
DESCRIPTION:Ein buntes Angebot von Marktständen🤗\nÜber den Platz schlendern oder selber einen Stand machen. Genaue Infos siehe Flyer🙋🏼‍♀️
URL:https://seebach.ch/event/allerlei-markt-am-seebacherplatz/
LOCATION:Seebacherplatz\, Seebacherplatz\, Zürich\, 8052\, Switzerland
CATEGORIES:Standard
ATTACH;FMTTYPE=image/jpeg:https://seebach.ch/wp-content/uploads/2026/04/b12e53b41b6e5a3e3f3679a75b5d9452930fc751r1-r9wrGb.jpg
END:VEVENT
BEGIN:VEVENT
DTSTART;TZID=Europe/Zurich:20260509T140000
DTEND;TZID=Europe/Zurich:20260509T170000
DTSTAMP:20260421T140056
CREATED:20260418T232206Z
LAST-MODIFIED:20260418T232206Z
UID:9344-1778335200-1778346000@seebach.ch
SUMMARY:PflanzenTauschBörse
DESCRIPTION:Bring mit\, was bei dir üppig wächst\, Ableger von Pflanzen oder was du an Setzlingen zu viel hast.\nAuch sind alle herzlich willkommen\, die einfach Ausschau nach neuen Pflanzen halten möchten! Es werden Pflanzen\, Setzlinge\, Blumen und Sträucher getauscht\, verkauft und verschenkt.\nInfos unter: www.laboer.ch/programm\nMit Ständen von:\n– Meh als Gmües\, die Gemüsegenossenschaft in Zürich Nord (Info und Verkauf von Setzlingen)\n– Balkonistas – die Pflanzenretter*innen (Weitergabe von geretteten Pflanzen gegen eine Spende)\n– Gartenmaldrei – Wildstaudengärtnerei (Verkauf von verschiedenen Wildstauden)\n– Natur- und Obstförderverein Zürich (Verkauf von selbst gezüchtete Beerensträucher\, Quitten\, Trauben\, etc.)
URL:https://seebach.ch/event/pflanzentauschboerse-5/
LOCATION:Labör\, Affolternstrasse 76\, 8050 Zürich
CATEGORIES:Standard
ATTACH;FMTTYPE=image/jpeg:https://seebach.ch/wp-content/uploads/2026/04/ee9e4d3197f3b67572728566a4762b4b57ebced9r0-kVhnNs.jpg
END:VEVENT
BEGIN:VEVENT
DTSTART;TZID=Europe/Zurich:20260528T180000
DTEND;TZID=Europe/Zurich:20260528T200000
DTSTAMP:20260421T140056
CREATED:20260415T232223Z
LAST-MODIFIED:20260415T232223Z
UID:9227-1779991200-1779998400@seebach.ch
SUMMARY:Kostenloser KI Kurs für Frauen
DESCRIPTION:In diesem zweistündigen Grundkurs nähern wir uns dem Thema Kûnstliche Intelligenz verständlich\, praxisnah und ohne Fachjargon. In einer vertrauten Atmosphäre sprechen wir über konktrete Alltagsbeispiele\, ordnen Chancen und Grenzen ein und klären offene Fragen.\nhttps://gz-zh.ch/gz-seebach/angebote/kostenloser-ki-kurs-fuer-frauen/
URL:https://seebach.ch/event/kostenloser-ki-kurs-fuer-frauen-2/
LOCATION:GZ Seebach\, Standort Leutschenbach
CATEGORIES:Standard
ATTACH;FMTTYPE=image/jpeg:https://seebach.ch/wp-content/uploads/2026/03/4c154eeba9c3cd6b5a5b852ba61a9eedebe8efc8r1-SsKOku.jpg
END:VEVENT
END:VCALENDAR